BEGIN:VCALENDAR
VERSION:2.0
PRODID:-//ChamberMaster//Event Calendar 2.0//EN
METHOD:PUBLISH
X-PUBLISHED-TTL:P3D
REFRESH-INTERVAL:P3D
CALSCALE:GREGORIAN
BEGIN:VEVENT
DTSTART;VALUE=DATE:20190910
DTEND;VALUE=DATE:20190911
TRANSP:TRANSPARENT
X-MICROSOFT-CDO-ALLDAYEVENT:TRUE
SUMMARY:Try Pilates Tuesday
DESCRIPTION:If you have been wanting to try Pilates in a small\, upbeat and supportive environment\, this class is for you!  Join us for a small group reformer Pilates class\, limited to 6 people.  Learn the fundamentals of Pilates and get familiar with the Reformer. Come with a friend or make a new one! This is a one time class that we offer periodically. This special event has a discounted rate of $20 for the class.  Make sure to register online as these classes have filled up quickly in the past!
X-ALT-DESC;FMTTYPE=text/html:If you have been wanting to try Pilates in a small\, upbeat and supportive environment\, this class is for you!&nbsp\; Join us for a small group reformer Pilates class\, limited to 6 people.&nbsp\; Learn the fundamentals of Pilates and get familiar with the Reformer. Come with a friend or make a new one! This is a one time class that we offer periodically. This special event has a discounted rate of $20 for the class.&nbsp\; Make sure to register online as these classes have filled up quickly in the past!&nbsp\;
LOCATION:246 E Deerpath Rd. Suite 3 Lake Forest\, IL 60045
UID:e.1126.18180
SEQUENCE:3
DTSTAMP:20260424T012545Z
URL:https://business.lflbchamber.com/events/details/try-pilates-tuesday-18180
END:VEVENT

END:VCALENDAR
