BEGIN:VCALENDAR
VERSION:2.0
PRODID:-//ChamberMaster//Event Calendar 2.0//EN
METHOD:PUBLISH
X-PUBLISHED-TTL:P3D
REFRESH-INTERVAL:P3D
CALSCALE:GREGORIAN
BEGIN:VEVENT
DTSTART:20220908T210000Z
DTEND:20220908T220000Z
X-MICROSOFT-CDO-ALLDAYEVENT:FALSE
SUMMARY:Tween & Teen Crafts
DESCRIPTION:Ages 9 - 18\n\nPut your own unique spin on these fun projects. All materials provided\, just bring your creativity! \n\n     September 8th: Teacup Fairy Gardens\n\n     October 6th: Donut Pumpkins\n\n     November 3rd: Stamped Clay Bow
X-ALT-DESC;FMTTYPE=text/html:<div>\n<p><strong>Ages 9 - 18</strong></p>\n\n<p>Put your own unique spin on these fun projects. All materials provided\, just bring your creativity!&nbsp\;</p>\n\n<p><strong>&nbsp\; &nbsp\; &nbsp\;September 8th</strong>: Teacup Fairy Gardens</p>\n\n<p><strong>&nbsp\; &nbsp\; &nbsp\;October 6th</strong>: Donut Pumpkins</p>\n\n<p><strong>&nbsp\; &nbsp\; &nbsp\;November 3rd</strong>: Stamped Clay Bow</p>\n</div>\n\n<div>&nbsp\;</div>\n
LOCATION:Lake Bluff Public Library 123 E. Scranton Ave. Lake Bluff\, IL. 60044
UID:e.1126.22382
SEQUENCE:3
DTSTAMP:20260426T041014Z
URL:https://business.lflbchamber.com/events/details/tween-teen-crafts-09-08-2022-22382
END:VEVENT

END:VCALENDAR
