BEGIN:VCALENDAR
VERSION:2.0
PRODID:-//ChamberMaster//Event Calendar 2.0//EN
METHOD:PUBLISH
X-PUBLISHED-TTL:P3D
REFRESH-INTERVAL:P3D
CALSCALE:GREGORIAN
BEGIN:VEVENT
DTSTART:20231214T220000Z
DTEND:20231214T230000Z
X-MICROSOFT-CDO-ALLDAYEVENT:FALSE
SUMMARY:Tween & Teen Crafts (Winter 2023/2024)
DESCRIPTION:Join us for a craft at the Library. All supplies provided\, just bring your creativity!\n\n\n\nDecember 14th - Paper Roll Snowflakes\n\nJanuary 11th - Penguin Pebble Families\n\nFebruary 8th - Winter Terrariums\n\nTween & Teen Crafts are for ages 9 - 18. Registration is required.
X-ALT-DESC;FMTTYPE=text/html:<p>Join us for a craft at the Library. All supplies provided\, just bring your creativity!<br />\n<br />\n<strong>December 14th</strong>&nbsp\;- Paper Roll Snowflakes</p>\n\n<p><strong>January 11th&nbsp\;</strong>- Penguin Pebble Families</p>\n\n<p><strong>February 8th</strong>&nbsp\;- Winter Terrariums</p>\n\n<p><strong>Tween &amp\; Teen Crafts are for ages 9 - 18. Registration is required.</strong></p>\n
LOCATION:Lake Bluff Public Library 123 E. Scranton Ave. Lake Bluff\, IL. 60044
UID:e.1126.25823
SEQUENCE:3
DTSTAMP:20260424T100608Z
URL:https://business.lflbchamber.com/events/details/tween-teen-crafts-12-01-2023-25823
END:VEVENT

END:VCALENDAR
