BEGIN:VCALENDAR
VERSION:2.0
PRODID:-//ChamberMaster//Event Calendar 2.0//EN
METHOD:PUBLISH
X-PUBLISHED-TTL:P3D
REFRESH-INTERVAL:P3D
CALSCALE:GREGORIAN
BEGIN:VEVENT
DTSTART:20240613T210000Z
DTEND:20240613T220000Z
X-MICROSOFT-CDO-ALLDAYEVENT:FALSE
SUMMARY:Tween & Teen Crafts: Puzzle Piece Art
DESCRIPTION:Create upcycled artwork using old puzzle pieces. Registration required.\n\nTween & Teen Crafts are for ages 9 - 18
X-ALT-DESC;FMTTYPE=text/html:<p>Create upcycled artwork using old puzzle pieces. Registration required.</p>\n\n<p>Tween &amp\; Teen Crafts are for ages 9 - 18</p>\n
LOCATION:Lake Bluff Public Library 123 E. Scranton Ave. Lake Bluff\, IL. 60044
UID:e.1126.27110
SEQUENCE:3
DTSTAMP:20260424T010749Z
URL:https://business.lflbchamber.com/events/details/tween-teen-crafts-puzzle-piece-art-27110
END:VEVENT

END:VCALENDAR
