BEGIN:VCALENDAR
VERSION:2.0
PRODID:-//ChamberMaster//Event Calendar 2.0//EN
METHOD:PUBLISH
X-PUBLISHED-TTL:P3D
REFRESH-INTERVAL:P3D
CALSCALE:GREGORIAN
BEGIN:VEVENT
DTSTART:20190317T003000Z
DTEND:20190317T023000Z
X-MICROSOFT-CDO-ALLDAYEVENT:FALSE
SUMMARY:U2 Hype
DESCRIPTION:U2 Hype is the ultimate tribute to U2. Delighting fans across the country since 2001\, Hype brings you the authentic sights and sounds that make U2 one of the most popular bands in the world. Hype takes the term tribute band to an entirely new level. Night after night\, they recreate the total U2 concert experience in both sight and sound. Bono look-a-like Daniel "Danno" Burrow always delivers an unmistakable and captivating performance. The band travels with all the vintage gear and the latest in costume and wardrobe. Hype brings you all your favorite U2 songs the way you are used to seeing them.
X-ALT-DESC;FMTTYPE=text/html:U2 Hype is the ultimate tribute to U2. Delighting fans across the country since 2001\, Hype brings you the authentic sights and sounds that make U2 one of the most popular bands in the world. Hype takes the term tribute band to an entirely new level. Night after night\, they recreate the total U2 concert experience in both sight and sound. Bono look-a-like Daniel &ldquo\;Danno&rdquo\; Burrow always delivers an unmistakable and captivating performance. The band travels with all the vintage gear and the latest in costume and wardrobe. Hype brings you all your favorite U2 songs the way you are used to seeing them.
LOCATION:Gorton Community Center 400 East Illinois Rd Lake Forest\, IL 60045
UID:e.1126.17623
SEQUENCE:3
DTSTAMP:20260424T095938Z
URL:https://business.lflbchamber.com/events/details/u2-hype-17623
END:VEVENT

END:VCALENDAR
