BEGIN:VCALENDAR
VERSION:2.0
PRODID:-//ChamberMaster//Event Calendar 2.0//EN
METHOD:PUBLISH
X-PUBLISHED-TTL:P3D
REFRESH-INTERVAL:P3D
CALSCALE:GREGORIAN
BEGIN:VEVENT
DTSTART:20220914T233000Z
DTEND:20220915T003000Z
X-MICROSOFT-CDO-ALLDAYEVENT:FALSE
SUMMARY:Understanding Medicare- Medicare 101
DESCRIPTION:Presented by Robin Dawson\, Independent Broker\, Licensed Agent Medicare Solutions Network Medicare Solutions Network will present a free educational seminar to get you up to speed on what Medicare covers\, what it doesn't\, and your potential out of pocket exposure. We'll discuss Supplements\, Medicare Advantage Plans\, Part D Prescription Plans\, and cost saving strategies for the years ahead.
X-ALT-DESC;FMTTYPE=text/html:Presented by Robin Dawson\, Independent Broker\, Licensed Agent Medicare Solutions Network Medicare Solutions Network will present a free educational seminar to get you up to speed on what Medicare covers\, what it doesn&rsquo\;t\, and your potential out of pocket exposure. We&rsquo\;ll discuss Supplements\, Medicare Advantage Plans\, Part D Prescription Plans\, and cost saving strategies for the years ahead.
LOCATION:Zoom
UID:e.1126.22319
SEQUENCE:3
DTSTAMP:20260426T040623Z
URL:https://business.lflbchamber.com/events/details/understanding-medicare-medicare-101-22319
END:VEVENT

END:VCALENDAR
