BEGIN:VCALENDAR
VERSION:2.0
PRODID:-//ChamberMaster//Event Calendar 2.0//EN
METHOD:PUBLISH
X-PUBLISHED-TTL:P3D
REFRESH-INTERVAL:P3D
CALSCALE:GREGORIAN
BEGIN:VEVENT
DTSTART:20190410T150000Z
DTEND:20190529T160000Z
X-MICROSOFT-CDO-ALLDAYEVENT:FALSE
SUMMARY:Vinyasa Yoga
DESCRIPTION:Join Erin O'Neill for this all levels class that cultivates strength\, flexibility and coordination. A strong flow of thoughtfully chosen poses connects movement with breath\, and will leave you feeling revitalized\, centered and nourished. *Vinyasa Yoga is a flowing\, dynamic sequence of poses that is one of the most popular styles of yoga in the United States. This type of yoga involves synchronizing the breath with a continuous flow of postures. **Please bring your own mat**
X-ALT-DESC;FMTTYPE=text/html:Join Erin O&rsquo\;Neill for this all levels class that cultivates strength\, flexibility and coordination. A strong flow of thoughtfully chosen poses connects movement with breath\, and will leave you feeling revitalized\, centered and nourished. *Vinyasa Yoga is a flowing\, dynamic sequence of poses that is one of the most popular styles of yoga in the United States. This type of yoga involves synchronizing the breath with a continuous flow of postures. **Please bring your own mat**
LOCATION:Gorton Community Center 400 E. Illinois Road\, Lake Forest\, IL 60045
UID:e.1126.17680
SEQUENCE:3
DTSTAMP:20260424T083522Z
URL:https://business.lflbchamber.com/events/details/vinyasa-yoga-17680
END:VEVENT

END:VCALENDAR
