BEGIN:VCALENDAR
VERSION:2.0
PRODID:-//ChamberMaster//Event Calendar 2.0//EN
METHOD:PUBLISH
X-PUBLISHED-TTL:P3D
REFRESH-INTERVAL:P3D
CALSCALE:GREGORIAN
BEGIN:VEVENT
DTSTART:20220622T160000Z
DTEND:20220622T163000Z
X-MICROSOFT-CDO-ALLDAYEVENT:FALSE
SUMMARY:Virtual Chair Yoga (Virtual Program)
DESCRIPTION:Join Wendy Dahl\, Director and co-owner of Blue Sun Yoga\, for a series of virtual chair yoga classes. These sessions are accessible to everyone with modifications and variations provided throughout. Chair yoga will help you strengthen your muscles\, improve your balance and flexibility\, expand your lung capacity and find a deeper sense of mindfulness and relaxation all from the comfort of your home. All you need is a sturdy chair (folding chair is fine) on a non-slip surface.
X-ALT-DESC;FMTTYPE=text/html:<span style="background-color:rgb(255\, 255\, 255)\; color:rgb(51\, 51\, 51)\; font-family:arial\,helvetica\,verdana\; font-size:12px">Join Wendy Dahl\, Director and co-owner of Blue Sun Yoga\, for a series of virtual chair yoga classes. These sessions are accessible to everyone with modifications and variations provided throughout. Chair yoga will help you strengthen your muscles\, improve your balance and flexibility\, expand your lung capacity and find a deeper sense of mindfulness and relaxation all from the comfort of your home. All you need is a sturdy chair (folding chair is fine) on a non-slip surface.&nbsp\;</span>
LOCATION:Lake Bluff Public Library 123 E. Scranton Ave. Lake Bluff\, IL. 60044
UID:e.1126.22050
SEQUENCE:3
DTSTAMP:20260424T100139Z
URL:https://business.lflbchamber.com/events/details/virtual-chair-yoga-virtual-program-06-22-2022-22050
END:VEVENT

END:VCALENDAR
