BEGIN:VCALENDAR
VERSION:2.0
PRODID:-//ChamberMaster//Event Calendar 2.0//EN
METHOD:PUBLISH
X-PUBLISHED-TTL:P3D
REFRESH-INTERVAL:P3D
CALSCALE:GREGORIAN
BEGIN:VEVENT
DTSTART;VALUE=DATE:20210308
DTEND;VALUE=DATE:20210409
TRANSP:TRANSPARENT
X-MICROSOFT-CDO-ALLDAYEVENT:TRUE
SUMMARY:Virtual Cinema: Women’s Adventure Film Tour 2021
DESCRIPTION:The Women's Adventure Film Tour is a program of short films that celebrate the inspiring women around us who are doing extraordinary things in the name of adventure. Every year\, a selection of unique short films are carefully chosen to show awesome women achieving their personally adventurous goals. Being adventurous doesn't always have to mean being the fastest\, going the highest or doing the most extreme things. Adventure for the most of us is stepping outside our comfort zone and climbing our own personal Everest. The films showcase real stories about women from a variety of cultures and sports around the world and can be enjoyed by women\, children and men of all ages.
X-ALT-DESC;FMTTYPE=text/html:The Women&rsquo\;s Adventure Film Tour is a program of short films that celebrate the inspiring women around us who are doing extraordinary things in the name of adventure. Every year\, a selection of unique short films are carefully chosen to show awesome women achieving their personally adventurous goals. Being adventurous doesn&rsquo\;t always have to mean being the fastest\, going the highest or doing the most extreme things. Adventure for the most of us is stepping outside our comfort zone and climbing our own personal Everest. The films showcase real stories about women from a variety of cultures and sports around the world and can be enjoyed by women\, children and men of all ages.
LOCATION:Virtual
UID:e.1126.20201
SEQUENCE:3
DTSTAMP:20260425T214807Z
URL:https://business.lflbchamber.com/events/details/virtual-cinema-women-s-adventure-film-tour-2021-20201
END:VEVENT

END:VCALENDAR
