BEGIN:VCALENDAR
VERSION:2.0
PRODID:-//ChamberMaster//Event Calendar 2.0//EN
METHOD:PUBLISH
X-PUBLISHED-TTL:P3D
REFRESH-INTERVAL:P3D
CALSCALE:GREGORIAN
BEGIN:VEVENT
DTSTART:20200517T210000Z
DTEND:20200517T230000Z
X-MICROSOFT-CDO-ALLDAYEVENT:FALSE
SUMMARY:Virtual Cooking Italian for Kids
DESCRIPTION:Chicken Parmesan via Zoom with Kristin Ryan
X-ALT-DESC;FMTTYPE=text/html:Chicken Parmesan via Zoom with Kristin Ryan
LOCATION:Gorton Community Center 400 E. Illinois Road Lake Forest\, IL 60045
UID:e.1126.19390
SEQUENCE:3
DTSTAMP:20260425T203626Z
URL:https://business.lflbchamber.com/events/details/virtual-cooking-italian-for-kids-19390
END:VEVENT

END:VCALENDAR
