BEGIN:VCALENDAR
VERSION:2.0
PRODID:-//ChamberMaster//Event Calendar 2.0//EN
METHOD:PUBLISH
X-PUBLISHED-TTL:P3D
REFRESH-INTERVAL:P3D
CALSCALE:GREGORIAN
BEGIN:VEVENT
DTSTART:20200501T050000Z
DTEND:20200502T045500Z
X-MICROSOFT-CDO-ALLDAYEVENT:FALSE
SUMMARY:Virtual Films from Gorton Community Center
DESCRIPTION:Virtual Films from Gorton Community Center We miss seeing you at the movies! While the John & Nancy Hughes Theater is closed for the time being\, we decided to bring you the next best thing virtual theater. Independent films available for streaming from Gorton's website. https://gortoncenter.org/film/
X-ALT-DESC;FMTTYPE=text/html:Virtual Films from Gorton Community Center We miss seeing you at the movies! While the John &amp\; Nancy Hughes Theater is closed for the time being\, we decided to bring you the next best thing&ndash\;virtual theater. Independent films available for streaming from Gorton&rsquo\;s website. https://gortoncenter.org/film/
LOCATION:Gorton Community Center 400 E. Illinois Road Lake Forest\, IL 60045
UID:e.1126.19176
SEQUENCE:3
DTSTAMP:20260425T203824Z
URL:https://business.lflbchamber.com/events/details/virtual-films-from-gorton-community-center-05-01-2020-19176
END:VEVENT

END:VCALENDAR
