BEGIN:VCALENDAR
VERSION:2.0
PRODID:-//ChamberMaster//Event Calendar 2.0//EN
METHOD:PUBLISH
X-PUBLISHED-TTL:P3D
REFRESH-INTERVAL:P3D
CALSCALE:GREGORIAN
BEGIN:VEVENT
DTSTART:20200522T160000Z
DTEND:20200522T163000Z
X-MICROSOFT-CDO-ALLDAYEVENT:FALSE
SUMMARY:Virtual Friday Circle time at 11:00
DESCRIPTION:Join the DILC staff on Zoom each week on Fridays to sing songs\, do the calendar\, talk about about the weather\, letter of the week and more! Contact Kristy at dicdirector@gortoncenter.org to get the Zoom invite. Intended for DILC enrolled families.
X-ALT-DESC;FMTTYPE=text/html:Join the DILC staff on Zoom each week on Fridays to sing songs\, do the calendar\, talk about about the weather\, letter of the week and more! Contact Kristy at dicdirector@gortoncenter.org to get the Zoom invite. Intended for DILC enrolled families.
LOCATION:Virtual Gorton Community Center
UID:e.1126.19397
SEQUENCE:3
DTSTAMP:20260425T215707Z
URL:https://business.lflbchamber.com/events/details/virtual-friday-circle-time-at-11-00-19397
END:VEVENT

END:VCALENDAR
