BEGIN:VCALENDAR
VERSION:2.0
PRODID:-//ChamberMaster//Event Calendar 2.0//EN
METHOD:PUBLISH
X-PUBLISHED-TTL:P3D
REFRESH-INTERVAL:P3D
CALSCALE:GREGORIAN
BEGIN:VEVENT
DTSTART:20200518T210000Z
DTEND:20200518T220000Z
X-MICROSOFT-CDO-ALLDAYEVENT:FALSE
SUMMARY:Virtual PASTA Performs The Musicians of Bremen via Zoom
DESCRIPTION:PASTA Performs The Musicians of Bremen via Zoom This is a Virtual Class
X-ALT-DESC;FMTTYPE=text/html:PASTA Performs The Musicians of Bremen via Zoom This is a Virtual Class
LOCATION:Gorton Community Center
UID:e.1126.19391
SEQUENCE:3
DTSTAMP:20260425T203830Z
URL:https://business.lflbchamber.com/events/details/virtual-pasta-performs-the-musicians-of-bremen-via-zoom-19391
END:VEVENT

END:VCALENDAR
