BEGIN:VCALENDAR
VERSION:2.0
PRODID:-//ChamberMaster//Event Calendar 2.0//EN
METHOD:PUBLISH
X-PUBLISHED-TTL:P3D
REFRESH-INTERVAL:P3D
CALSCALE:GREGORIAN
BEGIN:VEVENT
DTSTART:20210307T160000Z
DTEND:20210307T200000Z
X-MICROSOFT-CDO-ALLDAYEVENT:FALSE
SUMMARY:Virtual Reptile Rampage
DESCRIPTION:While we are sad to say Reptile Rampage will not be held in person this year\, we are happy to present Reptile Rampage via Zoom in a virtual format! What makes this year unique is that you'll get a chance to see exhibitor's home set-ups\, and we will feature Reptile Keepers from all over the world! Some of our amazing exhibitors from last year (plus new ones this year) will be putting on 15-30 minute shows between 10:00am and 2:00 pm. Register as a family/household. One week before the event you will be emailed a Zoom link and password. All proceeds will help the WDC operate as it's been a very challenging year and your generosity will help ensure that all of our animals are given the best in care. Get ready for non-stop reptile excitement!
X-ALT-DESC;FMTTYPE=text/html:While we are sad to say Reptile Rampage will not be held in person this year\, we are happy to present Reptile Rampage via Zoom in a virtual format! What makes this year unique is that you&#39\;ll get a chance to see exhibitor&#39\;s home set-ups\, and we will feature Reptile Keepers from all over the world! Some of our amazing exhibitors from last year (plus new ones this year) will be putting on 15-30 minute shows between 10:00am and 2:00 pm. Register as a family/household. One week before the event you will be emailed a Zoom link and password. All proceeds will help the WDC operate as it&#39\;s been a very challenging year and your generosity will help ensure that all of our animals are given the best in care. Get ready for non-stop reptile excitement!
LOCATION:Virtual
UID:e.1126.19883
SEQUENCE:3
DTSTAMP:20260425T214332Z
URL:https://business.lflbchamber.com/events/details/virtual-reptile-rampage-19883
END:VEVENT

END:VCALENDAR
