BEGIN:VCALENDAR
VERSION:2.0
PRODID:-//ChamberMaster//Event Calendar 2.0//EN
METHOD:PUBLISH
X-PUBLISHED-TTL:P3D
REFRESH-INTERVAL:P3D
CALSCALE:GREGORIAN
BEGIN:VEVENT
DTSTART:20200502T180000Z
DTEND:20200530T190000Z
X-MICROSOFT-CDO-ALLDAYEVENT:FALSE
SUMMARY:Virtually Gorton: Active Online Improv For Adults! via Zoom
DESCRIPTION:Active Online Improv For Adults! via Zoom WE RECOMMEND THAT YOU DOWNLOAD ZOOM PRIOR TO THIS CLASS We're offering a great opportunity to learn some improv basics and engage with our community online. Sign up for a class today and enjoy improv games\, exercises\, and social interaction again with our Active Online Improv! For Adults today! Ages: 18+ Time/dates: Saturdays\, May 2\, May 9\, May 16\, May 23\, May 30 from 1-2pm Fee: $12 Minimum Students: 3 Max Students: 10 How to INSTALL/DOWNLOAD Zoom:   Download the Zoom app https://zoom.us/download   Open the Zoom app on your desktop   You will receive an email invitation from the meeting host which will have a link\, and a meeting ID/password   Click on the link in the email   Join the meeting with video and audio enabled ** Remember to "Join the meeting with video and audio enabled!"
X-ALT-DESC;FMTTYPE=text/html:Active Online Improv For Adults! via Zoom WE RECOMMEND THAT YOU DOWNLOAD ZOOM PRIOR TO THIS CLASS We&rsquo\;re offering a great opportunity to learn some improv basics and engage with our community online. Sign up for a class today and enjoy improv games\, exercises\, and social interaction again with our Active Online Improv! For Adults today! Ages: 18+ Time/dates: Saturdays\, May 2\, May 9\, May 16\, May 23\, May 30 from 1-2pm Fee: $12 Minimum Students: 3 Max Students: 10 How to INSTALL/DOWNLOAD Zoom: &ndash\; Download the Zoom app https://zoom.us/download &ndash\; Open the Zoom app on your desktop &ndash\; You will receive an email invitation from the meeting host which will have a link\, and a meeting ID/password &ndash\; Click on the link in the email &ndash\; Join the meeting with video and audio enabled ** Remember to &ldquo\;Join the meeting with video and audio enabled!&rdquo\;
LOCATION:
UID:e.1126.19162
SEQUENCE:3
DTSTAMP:20260425T220549Z
URL:https://business.lflbchamber.com/events/details/virtually-gorton-active-online-improv-for-adults-via-zoom-19162
END:VEVENT

END:VCALENDAR
