BEGIN:VCALENDAR
VERSION:2.0
PRODID:-//ChamberMaster//Event Calendar 2.0//EN
METHOD:PUBLISH
X-PUBLISHED-TTL:P3D
REFRESH-INTERVAL:P3D
CALSCALE:GREGORIAN
BEGIN:VEVENT
DTSTART:20200520T180000Z
DTEND:20200520T193000Z
X-MICROSOFT-CDO-ALLDAYEVENT:FALSE
SUMMARY:Virtually Gorton: Camera Phone Photography with Kerri Sherman
DESCRIPTION:*Before class\, install SNAPSEED (free editing tool from your phone's App Store) on your charged phone\, and have these 3 easy household props ready: 1 sheet of white paper 1 placemat or cloth napkin 1 lettuce leaf (i.e. romaine\, spinach\, etc)   OR   one piece of fruit
X-ALT-DESC;FMTTYPE=text/html:*Before class\, install SNAPSEED (free editing tool from your phone&rsquo\;s App Store) on your charged phone\, and have these 3 easy household props ready: 1 sheet of white paper 1 placemat or cloth napkin 1 lettuce leaf (i.e. romaine\, spinach\, etc) &ndash\; OR &ndash\; one piece of fruit
LOCATION:Virtual Gorton Community Center
UID:e.1126.19395
SEQUENCE:3
DTSTAMP:20260425T220444Z
URL:https://business.lflbchamber.com/events/details/virtually-gorton-camera-phone-photography-with-kerri-sherman-19395
END:VEVENT

END:VCALENDAR
