BEGIN:VCALENDAR
VERSION:2.0
PRODID:-//ChamberMaster//Event Calendar 2.0//EN
METHOD:PUBLISH
X-PUBLISHED-TTL:P3D
REFRESH-INTERVAL:P3D
CALSCALE:GREGORIAN
BEGIN:VEVENT
DTSTART:20200519T213000Z
DTEND:20200519T223000Z
X-MICROSOFT-CDO-ALLDAYEVENT:FALSE
SUMMARY:Virtually Gorton: Comic Book Creations with Joy Lenstrom via Zoom!
DESCRIPTION:Comic Book Creations with Joy Lenstrom! Discover exciting Comic Book characters from the past and present! Learn to draw DC and Marvel Superheroes\, Spider-Man\, Ironman\, Wonder Woman\, and Star Wars!! On Zoom\, we will work together on a different theme each week. and complete a character using art supplies at home. At the end\, you will have finished characters ready to frame! Please gather your supplies at home prior to starting class or Order from Michaels.com or dickblick.com *Mixed Media Pad 9 12 (Strathmore 300 or 400 series) *A #2 pencil or art pencil 6H *Black fine point sharpies *A big set of many colored markers- Regular point not too thin (Blick has a brand for Illustration- not too expensive OR any type will be fine) Ages: 7+
X-ALT-DESC;FMTTYPE=text/html:Comic Book Creations with Joy Lenstrom! Discover exciting Comic Book characters from the past and present! Learn to draw DC and Marvel Superheroes\, Spider-Man\, Ironman\, Wonder Woman\, and Star Wars!! On Zoom\, we will work together on a different theme each week. and complete a character using art supplies at home. At the end\, you will have finished characters ready to frame! Please gather your supplies at home prior to starting class or Order from Michaels.com or dickblick.com *Mixed Media Pad 9&times\;12 (Strathmore 300 or 400 series) *A #2 pencil or art pencil 6H *Black fine point sharpies *A big set of many colored markers- Regular point not too thin (Blick has a brand for Illustration- not too expensive OR any type will be fine) Ages: 7+
LOCATION:Gorton Community Center
UID:e.1126.19392
SEQUENCE:3
DTSTAMP:20260425T203505Z
URL:https://business.lflbchamber.com/events/details/virtually-gorton-comic-book-creations-with-joy-lenstrom-via-zoom-19392
END:VEVENT

END:VCALENDAR
