BEGIN:VCALENDAR
VERSION:2.0
PRODID:-//ChamberMaster//Event Calendar 2.0//EN
METHOD:PUBLISH
X-PUBLISHED-TTL:P3D
REFRESH-INTERVAL:P3D
CALSCALE:GREGORIAN
BEGIN:VEVENT
DTSTART:20200430T203000Z
DTEND:20200514T211500Z
X-MICROSOFT-CDO-ALLDAYEVENT:FALSE
SUMMARY:Virtually Gorton: Fashion Design & Sketching with Ciao Bella Sewing
DESCRIPTION:Join Taylor of Ciao Bella Sewing via ZOOM for Fashion Design & Sketching WE RECOMMEND THAT YOU DOWNLOAD ZOOM PRIOR TO THIS CLASS Once you have signed up for this class through Gorton Community Center\, you will be sent an invitation to "join a zoom meeting" on the day of class. Join Ciao Bella Sewing for three weeks of fashion sketching and design. During week one students will design outfits via paper-collage using magazines. Week two we will sketch & design using coloring supplies. Then\, for week three students will use scrap fabric or an assortment of materials they have at their homes to complete their fashion collection. *Students will need access to Zoom\, a computer/laptop/I-Pad\, etc.\, access to a printer\, old magazines\, coloring supplies\, scissors & tape. Skill Level: Any Ages: 7   10 Enrollment: Min 6: Max: 12 Class Time: 3:30-4:15 PM Class Dates: Thursday's\, April 30\, May 7\, May 14 (3 weeks) Ciao Bella Sewing Fee: $45 Per student for three weeks series How to INSTALL/DOWNLOAD Zoom:   Download the Zoom app https://zoom.us/download   Open the Zoom app on your desktop   You will receive an email invitation from the meeting host which will have a link\, and a meeting ID/password   Click on the link in the email   Join the meeting with video and audio enabled ** Remember to "Join the meeting with video and audio enabled!"
X-ALT-DESC;FMTTYPE=text/html:Join Taylor of Ciao Bella Sewing via ZOOM for Fashion Design &amp\; Sketching WE RECOMMEND THAT YOU DOWNLOAD ZOOM PRIOR TO THIS CLASS Once you have signed up for this class through Gorton Community Center\, you will be sent an invitation to &ldquo\;join a zoom meeting&rdquo\; on the day of class. Join Ciao Bella Sewing for three weeks of fashion sketching and design. During week one students will design outfits via paper-collage using magazines. Week two we will sketch &amp\; design using coloring supplies. Then\, for week three students will use scrap fabric or an assortment of materials they have at their homes to complete their fashion collection. *Students will need access to Zoom\, a computer/laptop/I-Pad\, etc.\, access to a printer\, old magazines\, coloring supplies\, scissors &amp\; tape. Skill Level: Any Ages: 7 &ndash\; 10 Enrollment: Min 6: Max: 12 Class Time: 3:30-4:15 PM Class Dates: Thursday&rsquo\;s\, April 30\, May 7\, May 14 (3 weeks) Ciao Bella Sewing Fee: $45 Per student for three weeks series How to INSTALL/DOWNLOAD Zoom: &ndash\; Download the Zoom app https://zoom.us/download &ndash\; Open the Zoom app on your desktop &ndash\; You will receive an email invitation from the meeting host which will have a link\, and a meeting ID/password &ndash\; Click on the link in the email &ndash\; Join the meeting with video and audio enabled ** Remember to &ldquo\;Join the meeting with video and audio enabled!&rdquo\;
LOCATION:
UID:e.1126.19159
SEQUENCE:3
DTSTAMP:20260425T203814Z
URL:https://business.lflbchamber.com/events/details/virtually-gorton-fashion-design-sketching-with-ciao-bella-sewing-19159
END:VEVENT

END:VCALENDAR
