BEGIN:VCALENDAR
VERSION:2.0
PRODID:-//ChamberMaster//Event Calendar 2.0//EN
METHOD:PUBLISH
X-PUBLISHED-TTL:P3D
REFRESH-INTERVAL:P3D
CALSCALE:GREGORIAN
BEGIN:VEVENT
DTSTART:20200527T160000Z
DTEND:20200527T165000Z
X-MICROSOFT-CDO-ALLDAYEVENT:FALSE
SUMMARY:Virtually Gorton: Mat Pilates for All via Zoom
DESCRIPTION:Mat Pilates for All via Zoom with April Nelson Join April Nelson and build a strong core through Mat Pilates! This class will focus on improving mobility\, balance\, low back health\, reducing stress\, and increase mind-body awareness. Appropriate for all fitness levels. Wednesdays\, 11:00-11:50AM About April Nelson: April Taylor Nelson is the owner of Pike Pilates Studio and the creator of the Pilates for Kids Fitness Program. April is a certified Pilates instructor on the following apparatus: Mat\, Reformer\, Springboard\, Trapeze Table/Cadillac\, Chair\, Ladder Barrel\, Spine Corrector\, and Magic Circle. She has also completed training in TRX Suspension Method and myofascial release and is working towards an additional certification (pending July 2020) through the Pilates Method Alliance (PMA)\, an accredited and globally recognized program for Pilates professionals. WE RECOMMEND THAT YOU DOWNLOAD ZOOM PRIOR TO THIS CLASS
X-ALT-DESC;FMTTYPE=text/html:Mat Pilates for All via Zoom with April Nelson Join April Nelson and build a strong core through Mat Pilates! This class will focus on improving mobility\, balance\, low back health\, reducing stress\, and increase mind-body awareness. Appropriate for all fitness levels. Wednesdays\, 11:00-11:50AM About April Nelson: April Taylor Nelson is the owner of Pike Pilates Studio and the creator of the Pilates for Kids Fitness Program. April is a certified Pilates instructor on the following apparatus: Mat\, Reformer\, Springboard\, Trapeze Table/Cadillac\, Chair\, Ladder Barrel\, Spine Corrector\, and Magic Circle. She has also completed training in TRX Suspension Method and myofascial release and is working towards an additional certification (pending July 2020) through the Pilates Method Alliance (PMA)\, an accredited and globally recognized program for Pilates professionals. WE RECOMMEND THAT YOU DOWNLOAD ZOOM PRIOR TO THIS CLASS
LOCATION:Virtual-Gorton Community Center
UID:e.1126.19400
SEQUENCE:3
DTSTAMP:20260425T203822Z
URL:https://business.lflbchamber.com/events/details/virtually-gorton-mat-pilates-for-all-via-zoom-05-27-2020-19400
END:VEVENT

END:VCALENDAR
