BEGIN:VCALENDAR
VERSION:2.0
PRODID:-//ChamberMaster//Event Calendar 2.0//EN
METHOD:PUBLISH
X-PUBLISHED-TTL:P3D
REFRESH-INTERVAL:P3D
CALSCALE:GREGORIAN
BEGIN:VEVENT
DTSTART:20200520T160000Z
DTEND:20200520T165000Z
X-MICROSOFT-CDO-ALLDAYEVENT:FALSE
SUMMARY:Virtually Gorton: Mat Pilates for All via Zoom
DESCRIPTION:Join April Nelson and build a strong core through Mat Pilates! This class will focus on improving mobility\, balance\, low back health\, reducing stress\, and increase mind-body awareness. Appropriate for all fitness levels. Wednesdays beginning May 20 from 11:00-11:50AM
X-ALT-DESC;FMTTYPE=text/html:Join April Nelson and build a strong core through Mat Pilates! This class will focus on improving mobility\, balance\, low back health\, reducing stress\, and increase mind-body awareness. Appropriate for all fitness levels. Wednesdays beginning May 20 from 11:00-11:50AM
LOCATION:Gorton Community Center
UID:e.1126.19394
SEQUENCE:3
DTSTAMP:20260425T203627Z
URL:https://business.lflbchamber.com/events/details/virtually-gorton-mat-pilates-for-all-via-zoom-19394
END:VEVENT

END:VCALENDAR
