BEGIN:VCALENDAR
VERSION:2.0
PRODID:-//ChamberMaster//Event Calendar 2.0//EN
METHOD:PUBLISH
X-PUBLISHED-TTL:P3D
REFRESH-INTERVAL:P3D
CALSCALE:GREGORIAN
BEGIN:VEVENT
DTSTART:20200501T180000Z
DTEND:20200501T190000Z
X-MICROSOFT-CDO-ALLDAYEVENT:FALSE
SUMMARY:Virtually Gorton: Mother’s Day Art for Kids with Periwinkle Studios via Zoom!
DESCRIPTION:Art Classes for Kids with Jennifer Evans of Periwinkle Art Studios This is the perfect class for kids who enjoy painting. Jennifer will show you how to paint a beautiful canvas (flower wreath) for Mother's Day! This is for kids ages 8   12. Michael's in Vernon Hills is open and will do curbside pickup and same day delivery. Supply list: Square canvas (10? or 12? square. These are available at Michael's) or heavyweight paper Acrylic paint: blue\, green\, yellow\, white\, pink\, purple\, red Pencil Something circular to draw a template for the size of wreath circumference (paper plate\, saucer\, jar) Paintbrushes Water container for washing brushes between colors Paper towel or rag for blotting brushes
X-ALT-DESC;FMTTYPE=text/html:Art Classes for Kids with Jennifer Evans of Periwinkle Art Studios This is the perfect class for kids who enjoy painting. Jennifer will show you how to paint a beautiful canvas (flower wreath) for Mother&rsquo\;s Day! This is for kids ages 8 &ndash\; 12. Michael&rsquo\;s in Vernon Hills is open and will do curbside pickup and same day delivery. Supply list: Square canvas (10? or 12? square. These are available at Michael&rsquo\;s) or heavyweight paper Acrylic paint: blue\, green\, yellow\, white\, pink\, purple\, red Pencil Something circular to draw a template for the size of wreath circumference (paper plate\, saucer\, jar) Paintbrushes Water container for washing brushes between colors Paper towel or rag for blotting brushes
LOCATION:
UID:e.1126.19160
SEQUENCE:3
DTSTAMP:20260425T221045Z
URL:https://business.lflbchamber.com/events/details/virtually-gorton-mother-s-day-art-for-kids-with-periwinkle-studios-via-zoom-19160
END:VEVENT

END:VCALENDAR
