BEGIN:VCALENDAR
VERSION:2.0
PRODID:-//ChamberMaster//Event Calendar 2.0//EN
METHOD:PUBLISH
X-PUBLISHED-TTL:P3D
REFRESH-INTERVAL:P3D
CALSCALE:GREGORIAN
BEGIN:VEVENT
DTSTART:20200521T220000Z
DTEND:20200521T224500Z
X-MICROSOFT-CDO-ALLDAYEVENT:FALSE
SUMMARY:Virtually Gorton: Noggin Builders LEGO STEM Challenges via Zoom
DESCRIPTION:Join us for 45 minutes of fun LEGO building that will also build STEM and creative problem solving skills! All you need to bring are LEGO bricks and your creativity! Ages: recommended for ages 6-12\, younger children may participate with the help of an adult or older sibling Thursday\, May 21\, 5:00PM
X-ALT-DESC;FMTTYPE=text/html:Join us for 45 minutes of fun LEGO building that will also build STEM and creative problem solving skills! All you need to bring are LEGO bricks and your creativity! Ages: recommended for ages 6-12\, younger children may participate with the help of an adult or older sibling Thursday\, May 21\, 5:00PM
LOCATION:Virtual Gorton Community Center
UID:e.1126.19396
SEQUENCE:3
DTSTAMP:20260425T215902Z
URL:https://business.lflbchamber.com/events/details/virtually-gorton-noggin-builders-lego-stem-challenges-via-zoom-19396
END:VEVENT

END:VCALENDAR
