BEGIN:VCALENDAR
VERSION:2.0
PRODID:-//ChamberMaster//Event Calendar 2.0//EN
METHOD:PUBLISH
X-PUBLISHED-TTL:P3D
REFRESH-INTERVAL:P3D
CALSCALE:GREGORIAN
BEGIN:VEVENT
DTSTART:20200505T210000Z
DTEND:20200505T220000Z
X-MICROSOFT-CDO-ALLDAYEVENT:FALSE
SUMMARY:Virtually Gorton: Noggin Builders STEM via Zoom
DESCRIPTION:Noggin Builders STEM at Home: Paper Engineering Challenges at Home: Paper Engineering Challenges WE RECOMMEND THAT YOU DOWNLOAD ZOOM PRIOR TO THIS CLASS Noggin Builders STEM at Home: Paper Engineering Challenges Tuesday\, May 5\, from 4:00pm-5:00pm Ages K-5 Description: What can you build with paper? Join us for this fun hands on class to explore engineering challenges with paper. Create a tall tower\, test column strength\, and experiment to design a bridge that can hold weight. The following items are recommended for this class. We encourage you to make substitutions and use items you already have on hand at home: * computer paper\, about 40 pages * index cards * tape\, any kind * scissors * books (for weights) * pennies or small toys (as weights) How to INSTALL/DOWNLOAD Zoom:   Download the Zoom app https://zoom.us/download   Open the Zoom app on your desktop   You will receive an email invitation from the meeting host which will have a link\, and a meeting ID/password   Click on the link in the email   Join the meeting with video and audio enabled ** Remember to "Join the meeting with video and audio enabled!"
X-ALT-DESC;FMTTYPE=text/html:Noggin Builders STEM at Home: Paper Engineering Challenges at Home: Paper Engineering Challenges WE RECOMMEND THAT YOU DOWNLOAD ZOOM PRIOR TO THIS CLASS Noggin Builders STEM at Home: Paper Engineering Challenges Tuesday\, May 5\, from 4:00pm-5:00pm Ages K-5 Description: What can you build with paper? Join us for this fun hands on class to explore engineering challenges with paper. Create a tall tower\, test column strength\, and experiment to design a bridge that can hold weight. The following items are recommended for this class. We encourage you to make substitutions and use items you already have on hand at home: * computer paper\, about 40 pages * index cards * tape\, any kind * scissors * books (for weights) * pennies or small toys (as weights) How to INSTALL/DOWNLOAD Zoom: &ndash\; Download the Zoom app https://zoom.us/download &ndash\; Open the Zoom app on your desktop &ndash\; You will receive an email invitation from the meeting host which will have a link\, and a meeting ID/password &ndash\; Click on the link in the email &ndash\; Join the meeting with video and audio enabled ** Remember to &ldquo\;Join the meeting with video and audio enabled!&rdquo\;
LOCATION:
UID:e.1126.19164
SEQUENCE:3
DTSTAMP:20260425T220300Z
URL:https://business.lflbchamber.com/events/details/virtually-gorton-noggin-builders-stem-via-zoom-19164
END:VEVENT

END:VCALENDAR
