BEGIN:VCALENDAR
VERSION:2.0
PRODID:-//ChamberMaster//Event Calendar 2.0//EN
METHOD:PUBLISH
X-PUBLISHED-TTL:P3D
REFRESH-INTERVAL:P3D
CALSCALE:GREGORIAN
BEGIN:VEVENT
DTSTART:20200511T210000Z
DTEND:20200515T220000Z
X-MICROSOFT-CDO-ALLDAYEVENT:FALSE
SUMMARY:Virtually Gorton: PASTA Performs Puss-in-Boots via Zoom
DESCRIPTION:PASTA Performs Puss-in-Boots via Zoom WE RECOMMEND THAT YOU DOWNLOAD ZOOM PRIOR TO THIS CLASS The class runs Monday\, May 11\, Wednesday\, May 13 and Friday\, May 15 Each class session will run from 4:00 to 5:00 PM via Zoom Puss in Boots is a very funny adaptation of the well-known fairy tale. When the youngest child\, Kelly\, receives an inheritance of two dollars and a cat\, it is assumed to be a joke until Kelly finds that the cat can speak! Puss asks Kelly for a pair of magnificent boots and in exchange\, he will earn a fantastic living for his master. Promising riches\, splendid clothes\, jewels\, and Hollywood fame\, he ventures off to fulfill his vow. Using his imagination\, hard work\, and a certain savoir faire\, he'll succeed in going further than any other cat has gone before! This class will be structured with Monday/Wednesday classes and performance during the Friday class that will be recorded and available for you to share with friends and family. Please note: It is extremely important that all participants be very good readers. Ages: 8 to 14 Maximum of 10 students Fee: $30.00 How to INSTALL/DOWNLOAD Zoom:   Download the Zoom app https://zoom.us/download   Open the Zoom app on your desktop   You will receive an email invitation from the meeting host which will have a link\, and a meeting ID/password   Click on the link in the email   Join the meeting with video and audio enabled ** Remember to "Join the meeting with video and audio enabled!"
X-ALT-DESC;FMTTYPE=text/html:PASTA Performs Puss-in-Boots via Zoom WE RECOMMEND THAT YOU DOWNLOAD ZOOM PRIOR TO THIS CLASS The class runs Monday\, May 11\, Wednesday\, May 13 and Friday\, May 15 Each class session will run from 4:00 to 5:00 PM via Zoom Puss in Boots is a very funny adaptation of the well-known fairy tale. When the youngest child\, Kelly\, receives an inheritance of two dollars and a cat\, it is assumed to be a joke until Kelly finds that the cat can speak! Puss asks Kelly for a pair of magnificent boots and in exchange\, he will earn a fantastic living for his master. Promising riches\, splendid clothes\, jewels\, and Hollywood fame\, he ventures off to fulfill his vow. Using his imagination\, hard work\, and a certain savoir faire\, he&rsquo\;ll succeed in going further than any other cat has gone before! This class will be structured with Monday/Wednesday classes and performance during the Friday class that will be recorded and available for you to share with friends and family. Please note: It is extremely important that all participants be very good readers. Ages: 8 to 14 Maximum of 10 students Fee: $30.00 How to INSTALL/DOWNLOAD Zoom: &ndash\; Download the Zoom app https://zoom.us/download &ndash\; Open the Zoom app on your desktop &ndash\; You will receive an email invitation from the meeting host which will have a link\, and a meeting ID/password &ndash\; Click on the link in the email &ndash\; Join the meeting with video and audio enabled ** Remember to &ldquo\;Join the meeting with video and audio enabled!&rdquo\;
LOCATION:
UID:e.1126.19168
SEQUENCE:3
DTSTAMP:20260425T203504Z
URL:https://business.lflbchamber.com/events/details/virtually-gorton-pasta-performs-puss-in-boots-via-zoom-19168
END:VEVENT

END:VCALENDAR
