BEGIN:VCALENDAR
VERSION:2.0
PRODID:-//ChamberMaster//Event Calendar 2.0//EN
METHOD:PUBLISH
X-PUBLISHED-TTL:P3D
REFRESH-INTERVAL:P3D
CALSCALE:GREGORIAN
BEGIN:VEVENT
DTSTART:20200504T210000Z
DTEND:20200508T220000Z
X-MICROSOFT-CDO-ALLDAYEVENT:FALSE
SUMMARY:Virtually Gorton: PASTA Performs Robin Hood via Zoom
DESCRIPTION:PASTA Performs Robin Hood via Zoom WE RECOMMEND THAT YOU DOWNLOAD ZOOM PRIOR TO THIS CLASS The class runs Monday\, May 4\, Wednesday\, May 6 and Friday\, May 8 Each class session will run from 4:00 to 5:00 PM via Zoom Robin Hood is a hilarious adaptation of the English folktale. In this play\, Robin Hood and his merry crew are all birds! When they find themselves chased by an unknown enemy\, they have to get past the toll bridge operator in order to escape. The operator is Little John\, a very large cow\, who is demanding far more money than any of them have. After a dramatic swordfight\, Little John joins the gang to help them steal birdseed from the royal birdfeeder. Unfortunately\, the Sheriff of Nottingham has rigged it with PEANUT BUTTER! Will our heroes survive the sticky situation before getting captured? This class will be structured with Monday/Wednesday classes and performance during the Friday class that will be recorded and available for you to share with friends and family. Please note: It is extremely important that all participants be very good readers. Ages: 8 to 14 Maximum of 10 students Fee: $30.00 How to INSTALL/DOWNLOAD Zoom:   Download the Zoom app https://zoom.us/download   Open the Zoom app on your desktop   You will receive an email invitation from the meeting host which will have a link\, and a meeting ID/password   Click on the link in the email   Join the meeting with video and audio enabled ** Remember to "Join the meeting with video and audio enabled!"
X-ALT-DESC;FMTTYPE=text/html:PASTA Performs Robin Hood via Zoom WE RECOMMEND THAT YOU DOWNLOAD ZOOM PRIOR TO THIS CLASS The class runs Monday\, May 4\, Wednesday\, May 6 and Friday\, May 8 Each class session will run from 4:00 to 5:00 PM via Zoom Robin Hood is a hilarious adaptation of the English folktale. In this play\, Robin Hood and his merry crew are all birds! When they find themselves chased by an unknown enemy\, they have to get past the toll bridge operator in order to escape. The operator is Little John\, a very large cow\, who is demanding far more money than any of them have. After a dramatic swordfight\, Little John joins the gang to help them steal birdseed from the royal birdfeeder. Unfortunately\, the Sheriff of Nottingham has rigged it with PEANUT BUTTER! Will our heroes survive the sticky situation before getting captured? This class will be structured with Monday/Wednesday classes and performance during the Friday class that will be recorded and available for you to share with friends and family. Please note: It is extremely important that all participants be very good readers. Ages: 8 to 14 Maximum of 10 students Fee: $30.00 How to INSTALL/DOWNLOAD Zoom: &ndash\; Download the Zoom app https://zoom.us/download &ndash\; Open the Zoom app on your desktop &ndash\; You will receive an email invitation from the meeting host which will have a link\, and a meeting ID/password &ndash\; Click on the link in the email &ndash\; Join the meeting with video and audio enabled ** Remember to &ldquo\;Join the meeting with video and audio enabled!&rdquo\;
LOCATION:
UID:e.1126.19163
SEQUENCE:3
DTSTAMP:20260425T220301Z
URL:https://business.lflbchamber.com/events/details/virtually-gorton-pasta-performs-robin-hood-via-zoom-19163
END:VEVENT

END:VCALENDAR
