BEGIN:VCALENDAR
VERSION:2.0
PRODID:-//ChamberMaster//Event Calendar 2.0//EN
METHOD:PUBLISH
X-PUBLISHED-TTL:P3D
REFRESH-INTERVAL:P3D
CALSCALE:GREGORIAN
BEGIN:VEVENT
DTSTART:20200530T163000Z
DTEND:20200530T171000Z
X-MICROSOFT-CDO-ALLDAYEVENT:FALSE
SUMMARY:Virtually Gorton: SALSArobics via Zoom
DESCRIPTION:Aerobics with a Latin Kick! Have Fun & Get In Shape with Esther Gutierrez Sloan! THIS IS A FREE CLASS\, BUT YOU MUST PRE REGISTER IN ORDER TO GET THE ZOOM INFORMATION! WE RECOMMEND THAT YOU DOWNLOAD ZOOM PRIOR TO THIS CLASS This moderate intensity approach combines aerobics\, dance and exercise all to a salsa beat! The workout benefits include flexibility\, conditioning and shaping-up. Uno-dos-tres ..it's a fun workout!
X-ALT-DESC;FMTTYPE=text/html:Aerobics with a Latin Kick! Have Fun &amp\; Get In Shape with Esther Gutierrez Sloan! THIS IS A FREE CLASS\, BUT YOU MUST PRE REGISTER IN ORDER TO GET THE ZOOM INFORMATION! WE RECOMMEND THAT YOU DOWNLOAD ZOOM PRIOR TO THIS CLASS This moderate intensity approach combines aerobics\, dance and exercise all to a salsa beat! The workout benefits include flexibility\, conditioning and shaping-up. Uno-dos-tres&hellip\;..it&rsquo\;s a fun workout!
LOCATION:Virtual-Gorton Community Center
UID:e.1126.19402
SEQUENCE:3
DTSTAMP:20260425T203649Z
URL:https://business.lflbchamber.com/events/details/virtually-gorton-salsarobics-via-zoom-05-30-2020-19402
END:VEVENT

END:VCALENDAR
