BEGIN:VCALENDAR
VERSION:2.0
PRODID:-//ChamberMaster//Event Calendar 2.0//EN
METHOD:PUBLISH
X-PUBLISHED-TTL:P3D
REFRESH-INTERVAL:P3D
CALSCALE:GREGORIAN
BEGIN:VEVENT
DTSTART:20200523T163000Z
DTEND:20200523T171000Z
X-MICROSOFT-CDO-ALLDAYEVENT:FALSE
SUMMARY:Virtually Gorton: SALSArobics via Zoom
DESCRIPTION:Aerobics with a Latin Kick! Have Fun & Get In Shape with Esther Gutierrez Sloan! THIS IS A FREE CLASS\, BUT YOU MUST PRE REGISTER IN ORDER TO GET THE ZOOM INFORMATION! Saturday\, May 23 at 11:30AM (40 Minutes) This moderate intensity approach combines aerobics\, dance and exercise all to a salsa beat! The workout benefits include flexibility\, conditioning and shaping-up. Uno-dos-tres ..it's a fun workout! Esther offers a low impact class that averages 4000-4200 steps with varying degrees of intensity. Total Body Training Systems Methodology is used to maintain proper postural alignment and ensure muscular conditioning. PHA training Methodology to enhance cardiovascular conditioning is used throughout which helps with balance and coordination. Aerobic intensity is enhanced by using inline motion protocol. (moving from end to end of studio.) Stretching performed at end of session.
X-ALT-DESC;FMTTYPE=text/html:Aerobics with a Latin Kick! Have Fun &amp\; Get In Shape with Esther Gutierrez Sloan! THIS IS A FREE CLASS\, BUT YOU MUST PRE REGISTER IN ORDER TO GET THE ZOOM INFORMATION! Saturday\, May 23 at 11:30AM (40 Minutes) This moderate intensity approach combines aerobics\, dance and exercise all to a salsa beat! The workout benefits include flexibility\, conditioning and shaping-up. Uno-dos-tres&hellip\;..it&rsquo\;s a fun workout! Esther offers a low impact class that averages 4000-4200 steps with varying degrees of intensity. Total Body Training Systems Methodology is used to maintain proper postural alignment and ensure muscular conditioning. PHA training Methodology to enhance cardiovascular conditioning is used throughout which helps with balance and coordination. Aerobic intensity is enhanced by using inline motion protocol. (moving from end to end of studio.) Stretching performed at end of session.
LOCATION:Virtual Gorton Community Center
UID:e.1126.19399
SEQUENCE:3
DTSTAMP:20260425T220712Z
URL:https://business.lflbchamber.com/events/details/virtually-gorton-salsarobics-via-zoom-19399
END:VEVENT

END:VCALENDAR
