BEGIN:VCALENDAR
VERSION:2.0
PRODID:-//ChamberMaster//Event Calendar 2.0//EN
METHOD:PUBLISH
X-PUBLISHED-TTL:P3D
REFRESH-INTERVAL:P3D
CALSCALE:GREGORIAN
BEGIN:VEVENT
DTSTART:20200529T230000Z
DTEND:20200530T000000Z
X-MICROSOFT-CDO-ALLDAYEVENT:FALSE
SUMMARY:Virtually Gorton: Seafood Paella with Marina via Zoom
DESCRIPTION:Learn how to make an amazing paella with all the tricks and tips and have it on your table ready to eat in 20 minutes! Grab a glass (or bottle) of wine or your favorite beverage\, and join me as I show you how to make incredibly delicious paella. You will learn about rices that can be used\, seasonings\, broth and how to make the "sofrito\," the flavor base of any paella! I will also tell you how and where to find fresh ingredients to bring your paella to life. Dessert: Lime Mousse with Meringue Cup
X-ALT-DESC;FMTTYPE=text/html:Learn how to make an amazing paella with all the tricks and tips and have it on your table ready to eat in 20 minutes! Grab a glass (or bottle) of wine or your favorite beverage\, and join me as I show you how to make incredibly delicious paella. You will learn about rices that can be used\, seasonings\, broth and how to make the &ldquo\;sofrito\,&rdquo\; the flavor base of any paella! I will also tell you how and where to find fresh ingredients to bring your paella to life. Dessert: Lime Mousse with Meringue Cup
LOCATION:Virtual-Gorton Community Center
UID:e.1126.19401
SEQUENCE:3
DTSTAMP:20260425T203822Z
URL:https://business.lflbchamber.com/events/details/virtually-gorton-seafood-paella-with-marina-via-zoom-19401
END:VEVENT

END:VCALENDAR
