BEGIN:VCALENDAR
VERSION:2.0
PRODID:-//ChamberMaster//Event Calendar 2.0//EN
METHOD:PUBLISH
X-PUBLISHED-TTL:P3D
REFRESH-INTERVAL:P3D
CALSCALE:GREGORIAN
BEGIN:VEVENT
DTSTART:20200522T230000Z
DTEND:20200523T000000Z
X-MICROSOFT-CDO-ALLDAYEVENT:FALSE
SUMMARY:Virtually Gorton: Spanish Tapas Night with Marina via Zoom
DESCRIPTION:Friday\, May 22nd at 6PM Grab a glass (or bottle) of wine or beverage\, and join Marina as she shows you how to make Spanish tapas: Patatas Bravas (fried or roasted potatoes cubes with spicy sauce) Datiles con Tocino (baked dates with bacon) Queso de Cabra con Tomate (Baked Cheese with Tomato) Iberico Ham Croquettes with homemade Aioli
X-ALT-DESC;FMTTYPE=text/html:Friday\, May 22nd at 6PM Grab a glass (or bottle) of wine or beverage\, and join Marina as she shows you how to make Spanish tapas: Patatas Bravas (fried or roasted potatoes cubes with spicy sauce) Datiles con Tocino (baked dates with bacon) Queso de Cabra con Tomate (Baked Cheese with Tomato) Iberico Ham Croquettes with homemade Aioli
LOCATION:Libby Johnson
UID:e.1126.19398
SEQUENCE:3
DTSTAMP:20260425T220912Z
URL:https://business.lflbchamber.com/events/details/virtually-gorton-spanish-tapas-night-with-marina-via-zoom-19398
END:VEVENT

END:VCALENDAR
