BEGIN:VCALENDAR
VERSION:2.0
PRODID:-//ChamberMaster//Event Calendar 2.0//EN
METHOD:PUBLISH
X-PUBLISHED-TTL:P3D
REFRESH-INTERVAL:P3D
CALSCALE:GREGORIAN
BEGIN:VEVENT
DTSTART:20200508T000000Z
DTEND:20200508T010000Z
X-MICROSOFT-CDO-ALLDAYEVENT:FALSE
SUMMARY:Virtually Gorton: Stand & Deliver-Open Mic Night Live Stream II
DESCRIPTION:We want to hear your story! Gorton is excited to bring you another virtual Open Mic! No experience necessary. Sign up here to be a teller. Limited spots available so sign up soon! You will have 6 minutes to tell your story If you would like to watch\, go to the Gorton Facebook page for the scheduled date and time to watch live. WHERE: Gorton's Facebook Page at 7pm! (just jump on our page and scroll down to the live stream) FOR WHO: Tellers-you'll be sent a Zoom link / Audience- join via FB Live (sign up below or just tune-in) WHEN: Thursday\, May 7th at 7pm HOW: Sign up here to TELL or WATCH Sign up to watch via GORTON'S FACEBOOK Live or simply tune into Gorton's FB page at the time of the event! Expertly produced and moderated by Anne Vandy Purky:
X-ALT-DESC;FMTTYPE=text/html:We want to hear your story! Gorton is excited to bring you another virtual Open Mic! No experience necessary. Sign up here to be a teller. Limited spots available so sign up soon! You will have 6 minutes to tell your story If you would like to watch\, go to the Gorton Facebook page for the scheduled date and time to watch live. WHERE: Gorton&rsquo\;s Facebook Page at 7pm! (just jump on our page and scroll down to the live stream) FOR WHO: Tellers-you&rsquo\;ll be sent a Zoom link / Audience- join via FB Live (sign up below or just tune-in) WHEN: Thursday\, May 7th at 7pm HOW: Sign up here to TELL or WATCH Sign up to watch via GORTON&rsquo\;S FACEBOOK Live or simply tune into Gorton&rsquo\;s FB page at the time of the event! Expertly produced and moderated by Anne Vandy Purky:
LOCATION:Gorton Community Center
UID:e.1126.19173
SEQUENCE:3
DTSTAMP:20260425T203627Z
URL:https://business.lflbchamber.com/events/details/virtually-gorton-stand-deliver-open-mic-night-live-stream-ii-19173
END:VEVENT

END:VCALENDAR
