BEGIN:VCALENDAR
VERSION:2.0
PRODID:-//ChamberMaster//Event Calendar 2.0//EN
METHOD:PUBLISH
X-PUBLISHED-TTL:P3D
REFRESH-INTERVAL:P3D
CALSCALE:GREGORIAN
BEGIN:VEVENT
DTSTART:20260412T140000Z
DTEND:20260412T200000Z
X-MICROSOFT-CDO-ALLDAYEVENT:FALSE
SUMMARY:Volunteer Income Tax Assistance (VITA) Program at Lake Forest College
DESCRIPTION:The Lake Forest College Volunteer Income Tax Assistance (VITA) Program will assist filers with a gross income of less than $67\,000\, military taxpayers\, persons with disabilities\, and international students.\n\nEligible tax filers can schedule a one-hour appointment between 9 a.m. and 3 p.m. on select Sundays from February 8 through April 12\, 2026 in the Donnelley and Lee Library on Middle Campus\, 555 N Sheridan Road\, Lake Forest\, IL.\n\nAppointments must be made in advance. No walk-in appointments.\n\nRegister HERE. More information on the VITA program can be found HERE.\n\nVITA is an IRS initiative that has operated for over 50 years\, providing free tax preparation for underserved communities across the country. Lake Forest College\, led by business faculty member Dave Jordan\, is offering this service to the community with the help of dozens of students\, faculty\, staff\, and alumni volunteers.
X-ALT-DESC;FMTTYPE=text/html:<p>The Lake Forest College Volunteer Income Tax Assistance (VITA) Program will assist filers with a gross income of less than $67\,000\, military taxpayers\, persons with disabilities\, and international students.</p>\n\n<p>Eligible tax filers can schedule a one-hour appointment between 9 a.m. and 3 p.m. on select Sundays from February 8 through April 12\, 2026 in the Donnelley and Lee Library on Middle Campus\, 555 N Sheridan Road\, Lake Forest\, IL.</p>\n\n<p>Appointments must be made in advance. No walk-in appointments.</p>\n\n<p>Register&nbsp\;<a href="https://forms.office.com/Pages/ResponsePage.aspx?id=BYxHtNk9Bk6n-13Pcr1E7pLAHQGbgQlFv3tnchflqBhUQjQ0VTcxNUFXWVpUTUhURE5RWUs0VlBRNi4u" rel="nofollow noopener" style="box-sizing: border-box\; margin: 0px\; color: rgb(0\, 93\, 143)\;" target="_blank">HERE.</a>&nbsp\;More information on the VITA program can be found&nbsp\;<a href="https://www.lakeforest.edu/community/vita-tax-program" rel="nofollow noopener" style="box-sizing: border-box\; margin: 0px\; color: rgb(0\, 93\, 143)\;" target="_blank">HERE.</a></p>\n\n<p>VITA is an IRS initiative that has operated for over 50 years\, providing free tax preparation for underserved communities across the country. Lake Forest College\, led by business faculty member Dave Jordan\, is offering this service to the community with the help of dozens of students\, faculty\, staff\, and alumni volunteers.</p>\n
LOCATION:Donnelley and Lee Library Lake Forest College 555 N. Sheridan Road\, Lake Forest\, IL 60045
UID:e.1126.33912
SEQUENCE:3
DTSTAMP:20260425T221208Z
URL:https://business.lflbchamber.com/events/details/volunteer-income-tax-assistance-vita-program-at-lake-forest-college-04-12-2026-33912
END:VEVENT

END:VCALENDAR
