BEGIN:VCALENDAR
VERSION:2.0
PRODID:-//ChamberMaster//Event Calendar 2.0//EN
METHOD:PUBLISH
X-PUBLISHED-TTL:P3D
REFRESH-INTERVAL:P3D
CALSCALE:GREGORIAN
BEGIN:VEVENT
DTSTART:20200507T150000Z
DTEND:20200507T160000Z
X-MICROSOFT-CDO-ALLDAYEVENT:FALSE
SUMMARY:Webinar - Getting Started in Online Selling
DESCRIPTION:Getting Started in Online Selling. \n\nJust because your doors may be closed to business doesn't mean you have to be! As we all adapt to a new way of life right now\, we also need to be evaluating our resources\, exploring opportunities\, and finding new ways to thrive. Consider avenues of selling that are outside the box or more specifically outside the building! With sheltering at home\, more and more people are spending longer hours online. So\, now is the perfect time to put your business in front of this audience through online selling. Once you establish an ecommerce presence\, you will never want to go back to just the old way of doing business. Eventually\, with time and effort\, you will be able to profit from two viable selling platforms: in store and online. Please join this webinar presented by Street Level Studio to discover the basics of online selling\, including an overview of selling through Amazon\, as well as through your own ecommerce website and social media.
X-ALT-DESC;FMTTYPE=text/html:<p class="xmsonormal"><i><span style="color:black">Getting Started in Online Selling</span></i><span style="color:black">.&nbsp\;</span><o:p></o:p></p>\n\n<p class="xmsonormal"><b><span style="color:black">Just because your doors may be closed to business doesn&rsquo\;t mean you have to be!&nbsp\;</span></b><span style="color:black">As we all adapt to a new way of life right now\, we also need to be evaluating our resources\, exploring opportunities\, and finding new ways to thrive.&nbsp\;Consider avenues of selling that are outside the box&mdash\;or more specifically outside the building!&nbsp\;With sheltering at home\, more and more people are spending longer hours online.&nbsp\;So\, now is the perfect time to put your business in front of this audience through online selling.&nbsp\;Once you establish an ecommerce presence\, you will never want to go back to just the old way of doing business.&nbsp\;Eventually\, with time and effort\, you will be able to profit from two viable selling platforms: in store and online.&nbsp\;Please join this webinar presented by Street Level Studio to discover the basics of online selling\, including an overview of selling through Amazon\, as well as through your own ecommerce website and social media.&nbsp\;</span><o:p></o:p></p>\n
LOCATION:Online webinar. Registration: https://us02web.zoom.us/meeting/register/tZYof-ytrD4qHNJU28wAioSNHFFuHJ3wUpC_
UID:e.1126.19148
SEQUENCE:3
DTSTAMP:20260425T215702Z
URL:https://business.lflbchamber.com/events/details/webinar-getting-started-in-online-selling-19148
END:VEVENT

END:VCALENDAR
