BEGIN:VCALENDAR
VERSION:2.0
PRODID:-//ChamberMaster//Event Calendar 2.0//EN
METHOD:PUBLISH
X-PUBLISHED-TTL:P3D
REFRESH-INTERVAL:P3D
CALSCALE:GREGORIAN
BEGIN:VEVENT
DTSTART:20190711T233000Z
DTEND:20190712T020000Z
X-MICROSOFT-CDO-ALLDAYEVENT:FALSE
SUMMARY:Week Night Out - Summer in Italy
DESCRIPTION:This is the perfect night out! Bring a friend\, a date or make it a fun girls night out! You can also bring a bottle of wine to enjoy! Join Marina Boldrini Rivelis from Taste of Real Food for this enjoyable cooking class. Includes:appetizer\, meal and dessert plus recipes. Menu: Bruschetta al pomodoro with burrata   Ricotta gnocchi with the best pomodoro e basilico sauce   Tiramisu alle ciliegie trifle cups (mascarpone\, Amaretto Di Sarono\, amarena cherries\, cherry reduction sauce and ladyfingers) *Ages: 21 or older   byob!
X-ALT-DESC;FMTTYPE=text/html:This is the perfect night out! Bring a friend\, a date or make it a fun girls night out! You can also bring a bottle of wine to enjoy! Join Marina Boldrini Rivelis from Taste of Real Food for this enjoyable cooking class. Includes:appetizer\, meal and dessert plus recipes. Menu: Bruschetta al pomodoro with burrata &ndash\; Ricotta gnocchi with the best pomodoro e basilico sauce &ndash\; Tiramisu alle ciliegie trifle cups (mascarpone\, Amaretto Di Sarono\, amarena cherries\, cherry reduction sauce and ladyfingers) *Ages: 21 or older &ndash\; byob!
LOCATION:Gorton Community Center
UID:e.1126.18044
SEQUENCE:3
DTSTAMP:20260424T043722Z
URL:https://business.lflbchamber.com/events/details/week-night-out-summer-in-italy-18044
END:VEVENT

END:VCALENDAR
