BEGIN:VCALENDAR
VERSION:2.0
PRODID:-//ChamberMaster//Event Calendar 2.0//EN
METHOD:PUBLISH
X-PUBLISHED-TTL:P3D
REFRESH-INTERVAL:P3D
CALSCALE:GREGORIAN
BEGIN:VEVENT
DTSTART:20231217T013000Z
DTEND:20231217T030000Z
X-MICROSOFT-CDO-ALLDAYEVENT:FALSE
SUMMARY:Welcome Christmas
DESCRIPTION:It's the most wonderful time of the year...for music! Join the LCSO on Saturday\, December 16th at 7:30 PM at the Gurnee Community Church for our annual "Welcome Christmas" program. A perfect way to welcome the Christmas season with the whole family\, we aim to provide you with musical experiences familiar and new. Don't miss the Corelli Christmas Concerto\, a masterwork of seasonal repertoire
X-ALT-DESC;FMTTYPE=text/html:It&#39\;s the most wonderful time of the year...for music! Join the LCSO on Saturday\, December 16th at 7:30 PM at the Gurnee Community Church for our annual &quot\;Welcome Christmas&quot\; program. A perfect way to welcome the Christmas season with the whole family\, we aim to provide you with musical experiences familiar and new. Don&#39\;t miss the Corelli Christmas Concerto\, a masterwork of seasonal repertoire
LOCATION:Gurnee Community Church: 4555 Old Grand Ave\, Gurnee\, IL 60031
UID:e.1126.26150
SEQUENCE:3
DTSTAMP:20260424T100543Z
URL:https://business.lflbchamber.com/events/details/welcome-christmas-12-16-2023-26150
END:VEVENT

END:VCALENDAR
