BEGIN:VCALENDAR
VERSION:2.0
PRODID:-//ChamberMaster//Event Calendar 2.0//EN
METHOD:PUBLISH
X-PUBLISHED-TTL:P3D
REFRESH-INTERVAL:P3D
CALSCALE:GREGORIAN
BEGIN:VEVENT
DTSTART:20231217T013000Z
DTEND:20231217T030000Z
X-MICROSOFT-CDO-ALLDAYEVENT:FALSE
SUMMARY:"Welcome Christmas"
DESCRIPTION:It's the most wonderful time of the year...for music! Join the LCSO on Saturday\, December 16th at 7:30 PM at the Gurnee Community Church for our annual "Welcome Christmas" program. A perfect way to welcome the Christmas season with the whole family\, we aim to provide you with musical experiences familiar and new. Don't miss the Corelli Christmas Concerto\, a masterwork of seasonal repertoire. In 1714 Arcangelo Corelli's "Christmas Concerto" was published posthumously and has since become a staple work of the season. We will also be featuring a celebration of legendary Christmas fusion group "Mannheim Steamroller" that is sure to inspire you to carol! Which you will get to do as we finish the program off with LeRoy Anderson's "Christmas Festival" and an audience sing along of some classic carols!
X-ALT-DESC;FMTTYPE=text/html:It&#39\;s the most wonderful time of the year...for music! Join the LCSO on Saturday\, December 16th at 7:30 PM at the Gurnee Community Church for our annual &quot\;Welcome Christmas&quot\; program. A perfect way to welcome the Christmas season with the whole family\, we aim to provide you with musical experiences familiar and new. Don&#39\;t miss the Corelli Christmas Concerto\, a masterwork of seasonal repertoire. In 1714 Arcangelo Corelli&#39\;s &quot\;Christmas Concerto&quot\; was published posthumously and has since become a staple work of the season. We will also be featuring a celebration of legendary Christmas fusion group &quot\;Mannheim Steamroller&quot\; that is sure to inspire you to carol! Which you will get to do as we finish the program off with LeRoy Anderson&#39\;s &quot\;Christmas Festival&quot\; and an audience sing along of some classic carols!
LOCATION:Gurnee Community Church
UID:e.1126.25740
SEQUENCE:3
DTSTAMP:20260424T100036Z
URL:https://business.lflbchamber.com/events/details/welcome-christmas-25740
END:VEVENT

END:VCALENDAR
