BEGIN:VCALENDAR
VERSION:2.0
PRODID:-//ChamberMaster//Event Calendar 2.0//EN
METHOD:PUBLISH
X-PUBLISHED-TTL:P3D
REFRESH-INTERVAL:P3D
CALSCALE:GREGORIAN
BEGIN:VEVENT
DTSTART:20190314T000000Z
DTEND:20190314T010000Z
X-MICROSOFT-CDO-ALLDAYEVENT:FALSE
SUMMARY:What Buyers Want: Get Ready\, Get Set\, Sell!
DESCRIPTION:Join Marissa Hopkins\, a local real estate broker\, to understand what today's buyers want when purchasing a new home. She will be giving tips and ideas for how to prepare your home and cost efficient tips for a quick home sale. She will briefly review 2018 North Shore home sales and current stats on our local housing market. Ms. Hopkins represented and sold the Home Alone house!\n\n\n\nRegistration Required.
X-ALT-DESC;FMTTYPE=text/html:<br />\nJoin Marissa Hopkins\, a local real estate broker\, to understand what today&rsquo\;s buyers want when purchasing a new home. She will be giving tips and ideas for how to prepare your home and cost efficient tips for a quick home sale. She will briefly review 2018 North Shore home sales and current stats on our local housing market. Ms. Hopkins represented and sold the Home Alone house!<br />\n<br />\nRegistration Required.
LOCATION:Lake Bluff Library 123 E Scranton Ave. Lake Bluff\, IL 60044
UID:e.1126.17617
SEQUENCE:3
DTSTAMP:20260424T100537Z
URL:https://business.lflbchamber.com/events/details/what-buyers-want-get-ready-get-set-sell-17617
END:VEVENT

END:VCALENDAR
