BEGIN:VCALENDAR
VERSION:2.0
PRODID:-//ChamberMaster//Event Calendar 2.0//EN
METHOD:PUBLISH
X-PUBLISHED-TTL:P3D
REFRESH-INTERVAL:P3D
CALSCALE:GREGORIAN
BEGIN:VEVENT
DTSTART:20231210T220000Z
DTEND:20231210T233000Z
X-MICROSOFT-CDO-ALLDAYEVENT:FALSE
SUMMARY:Wind Ensembles Holiday Concert
DESCRIPTION:The CLC Wind Ensemble includes musicians from all walks of life\, including CLC students\, local high school music teachers and community members who enjoy the camaraderie of playing music at a high level. The ensemble features talented musicians playing woodwind\, brass and percussion instruments.
X-ALT-DESC;FMTTYPE=text/html:The CLC Wind Ensemble includes musicians from all walks of life\, including CLC students\, local high school music teachers and community members who enjoy the camaraderie of playing music at a high level. The ensemble features talented musicians playing woodwind\, brass and percussion instruments.
LOCATION:James Lumber Center for the Performing Arts 19351 W. Washington Street Grayslake\, IL 60030
UID:e.1126.25661
SEQUENCE:3
DTSTAMP:20260424T100417Z
URL:https://business.lflbchamber.com/events/details/wind-ensembles-holiday-concert-25661
END:VEVENT

END:VCALENDAR
