BEGIN:VCALENDAR
VERSION:2.0
PRODID:-//ChamberMaster//Event Calendar 2.0//EN
METHOD:PUBLISH
X-PUBLISHED-TTL:P3D
REFRESH-INTERVAL:P3D
CALSCALE:GREGORIAN
BEGIN:VEVENT
DTSTART:20250409T210000Z
DTEND:20250409T223000Z
X-MICROSOFT-CDO-ALLDAYEVENT:FALSE
SUMMARY:Wine Down Wednesday
DESCRIPTION:We're popping the corks\, and you're invited! Join us for an afternoon of\n\nred and white wine\, appetizers\, and great conversation. It's the perfect\n\nopportunity to "wine" down as you mix and mingle with fellow professionals.
X-ALT-DESC;FMTTYPE=text/html:We&rsquo\;re popping the corks\, and you&rsquo\;re invited! Join us for an afternoon of<br />\nred and white wine\, appetizers\, and great conversation. It&rsquo\;s the perfect<br />\nopportunity to &ldquo\;wine&rdquo\; down as you mix and mingle with fellow professionals.
LOCATION:The Sheridan at Green Oaks 29330 N. Waukegan Road | Lake Bluff\, IL 60044
UID:e.1126.30441
SEQUENCE:3
DTSTAMP:20260424T040625Z
URL:https://business.lflbchamber.com/events/details/wine-down-wednesday-04-09-2025-30441
END:VEVENT

END:VCALENDAR
