BEGIN:VCALENDAR
VERSION:2.0
PRODID:-//ChamberMaster//Event Calendar 2.0//EN
METHOD:PUBLISH
X-PUBLISHED-TTL:P3D
REFRESH-INTERVAL:P3D
CALSCALE:GREGORIAN
BEGIN:VEVENT
DTSTART;VALUE=DATE:20190510
DTEND;VALUE=DATE:20190511
TRANSP:TRANSPARENT
X-MICROSOFT-CDO-ALLDAYEVENT:TRUE
SUMMARY:Wine Women & Shoes 2019
DESCRIPTION:Break out the Manolos and the Barolos\, the Jimmy Choos and those buttery Chards A Safe Place will be hosting their third annual Wine Women & Shoes event at the Marriott Lincolnshire Resort on Friday\, May 10\, 2019 from 5:30pm to 9:30pm.\n\n \n\nAn irresistible blend of fashion and compassion\, Wine Women & Shoes events are all about putting the "fun" in fundraiser. They give women the opportunity to get glamorous with their girlfriends while enjoying incredible varietals from top winemakers  all for a good cause.\n\n \n\nA Safe Place's event will feature unlimited wine tasting\, a shopable multi-designer marketplace\, and charming Shoe Guys  serving up this season's must-have items on silver platters all for a swirlin'-and-stylin' good time. \n\n \n\nIn addition to shopping peep-toes while sipping Pinots\, guests will enjoy Best in Shoe and Best Dressed contests\, a Wall of Wine where everyone can win\, a Key to the Closet winner-takes-all raffle prize\, exciting silent and live auction items\, delectable bites and desserts from the kitchen of the Lincolnshire Marriott\, and a designer fashion show to top off the evening.\n\n \n\nThe highlight of the evening\, local fashion designer Ann Everett will showcase her own unique clothing designs at the end of the night. Ann is Chicago based from Tipperary\, Ireland who has lived all over the world. Her design company was formed in 2012 after years of personal frustration she felt at not finding wearable original pieces. Ann is not formally trained in design\, but derives inspiration from luxurious fabrics\, winter landscapes of her birthplace\, and the architecture of Chicago. \n\n \n\nEarly bird tickets are $90 through March 10 with all proceeds benefitting the free programs and services that A Safe Place provides to victims of domestic violence and their families. Ticket prices go up after that and will be available for $125 on the night of the event.\n\n \n\nGenerous sponsors of the event include Volkswagen Credit\, Donlen Community Caring (a Hertz Company)\, Bob Baizer/Romanucci & Blandin\, Uline\, Cycle Logistics\, The Law Offices of David R. Del Re\, and Evanston Masonry. Sponsorship opportunities are available.\n\n \n\nSince 1978\, A Safe Place has been Lake County's sole provider of services exclusively addressing domestic violence\, serving individuals throughout the Chicagoland area including Cook\, McHenry\, and Kenosha counties. The organization's lifesaving programs and services for victims of domestic violence and their children\, include crisis support\, housing\, legal advocacy\, counseling\, community outreach\, and education to prevent future abuse. Last year\, A Safe Place answered over 1\,500 calls on the 24-hour hotline\, entered over 2\,300 Orders of Protection for victims of domestic violence into the court system\, and served over 29\,000 individuals that came from each and every community.\n\n \n\nFounded in Napa Valley in 2005\, Wine Women & Shoes is a fun-and-fashionable national event series that lets women put their most generous foot forward\, sip to their hearts' content\, and laugh until their cheeks hurt. With events in over 100 cities and counting it has helped net over $70 million for various causes across the country.\n\n \n\nFor more information\, please call or e-mail Events Director Rena Lee at (847) 731-7165\, ext. 104 or email rlee@asafeplaceforhelp.org\, or to purchase tickets\, visit winewomenandshoes.com/asafeplace.
X-ALT-DESC;FMTTYPE=text/html:<span style="font-size:12.0pt">Break out the Manolos and the Barolos\, the Jimmy Choos and those buttery Chards&mdash\;A Safe Place will be hosting their third annual Wine Women &amp\; Shoes event at the </span><span style="font-size:12.0pt">Marriott Lincolnshire Resort on Friday\, May 10\, 2019</span><span style="font-size:12.0pt"> from </span><span style="font-size:12.0pt">5:30pm to 9:30pm.</span><br />\n&nbsp\;<br />\n<span style="font-size:12.0pt">An irresistible blend of fashion and compassion\, Wine Women &amp\; Shoes events are all about putting the &ldquo\;fun&rdquo\; in fundraiser. They give women the opportunity to get glamorous with their girlfriends while enjoying incredible varietals from top winemakers&ndash\;&ndash\;all for a good cause.</span><br />\n&nbsp\;<br />\n<span style="font-size:12.0pt">A Safe Place&rsquo\;s event will feature unlimited wine tasting\, a shopable multi-designer marketplace\, and charming Shoe Guys<strong>&trade\;</strong> serving up this season&rsquo\;s must-have items on silver platters&mdash\;all for a swirlin&rsquo\;-and-stylin&rsquo\; good time. </span><br />\n&nbsp\;<br />\n<span style="font-size:12.0pt">In addition to shopping peep-toes while sipping Pinots\, guests will enjoy Best in Shoe and Best Dressed contests\, a Wall of Wine where everyone can win\, a Key to the Closet winner-takes-all raffle prize\, exciting silent and live auction items\, delectable bites and desserts from the kitchen of the Lincolnshire Marriott\, and a designer fashion show to top off the evening.</span><br />\n&nbsp\;<br />\n<span style="font-size:12.0pt">The highlight of the evening\, local fashion designer Ann Everett will showcase her own unique clothing designs at the end of the night. Ann is Chicago based from Tipperary\, Ireland who has lived all over the world. Her design company was formed in 2012 after years of personal frustration she felt at not finding wearable original pieces. Ann is not formally trained in design\, but derives inspiration from luxurious fabrics\, winter landscapes of her birthplace\, and the architecture of Chicago. </span><br />\n&nbsp\;<br />\n<span style="font-size:12.0pt">Early bird tickets are $90 through March 10 with </span><em><span style="font-size:12.0pt">all </span></em><span style="font-size:12.0pt">proceeds benefitting the free programs and services that A Safe Place provides to victims of domestic violence and their families. Ticket prices go up after that and will be available for $125 on the night of the event.</span><br />\n&nbsp\;<br />\n<span style="font-size:12.0pt">Generous sponsors of the event include Volkswagen Credit\, Donlen Community Caring (a Hertz Company)\, Bob Baizer/Romanucci &amp\; Blandin\, Uline\, Cycle Logistics\, The Law Offices of David R. Del Re\, and Evanston Masonry. Sponsorship opportunities are available.</span><br />\n&nbsp\;<br />\n<span style="font-family:calibri\,sans-serif">Since 1978\, A Safe Place has been Lake County&rsquo\;s sole provider of services exclusively addressing domestic violence\, serving individuals throughout the Chicagoland area including Cook\, McHenry\, and Kenosha counties. The organization&rsquo\;s lifesaving programs and services for victims of domestic violence and their children\, include crisis support\, housing\, legal advocacy\, counseling\, community</span><span style="font-family:calibri\,sans-serif"> outreach\, and education to prevent future abuse. Last year\, A Safe Place answered over 1\,500 calls on the 24-hour hotline\, entered over 2\,300 Orders of Protection for victims of domestic violence into the court system\, and served over 29\,000 individuals that came from each and every community.</span><br />\n&nbsp\;<br />\n<span style="font-size:12.0pt">Founded in Napa Valley in 2005\, Wine Women &amp\; Shoes is a fun-and-fashionable national event series that lets women put their most generous foot forward\, sip to their hearts&rsquo\; content\, and laugh until their cheeks hurt. With events in over 100 cities&mdash\;and counting&mdash\;it has helped net over $70 million for various causes across the country.</span><br />\n&nbsp\;<br />\n<span style="font-size:12.0pt">For more information\, please call or e-mail Events Director Rena Lee at (847) 731-7165\, ext. 104 or email rlee@asafeplaceforhelp.org\, or to purchase tickets\, visit winewomenandshoes.com/asafeplace. </span>
LOCATION:Lincolnshire Marriott Resort Ten Marriott Drive Lincolnshire\, IL 60069
UID:e.1126.17599
SEQUENCE:3
DTSTAMP:20260424T072501Z
URL:https://business.lflbchamber.com/events/details/wine-women-shoes-2019-17599
END:VEVENT

END:VCALENDAR
