BEGIN:VCALENDAR
VERSION:2.0
PRODID:-//ChamberMaster//Event Calendar 2.0//EN
METHOD:PUBLISH
X-PUBLISHED-TTL:P3D
REFRESH-INTERVAL:P3D
CALSCALE:GREGORIAN
BEGIN:VEVENT
DTSTART:20231202T200000Z
DTEND:20231202T220000Z
X-MICROSOFT-CDO-ALLDAYEVENT:FALSE
SUMMARY:Winter Open House
DESCRIPTION:All ages are welcome to stop by the Children's Department for some festive fun: crafts\, storytime\, face painting\, and activities!
X-ALT-DESC;FMTTYPE=text/html:<div>\n<p><span style="font-size:12px"><span style="font-family:arial\,helvetica\,sans-serif">All ages are welcome to stop by the Children&rsquo\;s Department for some festive fun: crafts\, storytime\, face painting\,&nbsp\;and activities!</span></span></p>\n</div>\n
LOCATION:Lake Bluff Public Library 123 E. Scranton Ave. Lake Bluff\, IL. 60044
UID:e.1126.25817
SEQUENCE:3
DTSTAMP:20260424T095945Z
URL:https://business.lflbchamber.com/events/details/winter-open-house-25817
END:VEVENT

END:VCALENDAR
