BEGIN:VCALENDAR
VERSION:2.0
PRODID:-//ChamberMaster//Event Calendar 2.0//EN
METHOD:PUBLISH
X-PUBLISHED-TTL:P3D
REFRESH-INTERVAL:P3D
CALSCALE:GREGORIAN
BEGIN:VEVENT
DTSTART:20190319T000000Z
DTEND:20190319T010000Z
X-MICROSOFT-CDO-ALLDAYEVENT:FALSE
SUMMARY:Women of World War II: On the Front Lines & the Home Front
DESCRIPTION:During World War II\, American women took on many new roles both in the military and as civilians. One of the civilian avenues was through the American Red Cross Clubmobile which featured doughnuts\, coffee\, and good old American girl-next-door friendliness on the front lines in Europe\, Southeast Asia\, India\, and Australia. Learn more about the Clubmobile program and other ways in which American women helped win the War!
X-ALT-DESC;FMTTYPE=text/html:During World War II\, American women took on many new roles both in the military and as civilians. One of the civilian avenues was through the American Red Cross Clubmobile which featured doughnuts\, coffee\, and good old American girl-next-door friendliness on the front lines in Europe\, Southeast Asia\, India\, and Australia. Learn more about the Clubmobile program and other ways in which American women helped win the War!
LOCATION:Lake Bluff Library 123 E. Scranton Ave.\, Lake Bluff\, IL 60044
UID:e.1126.17620
SEQUENCE:3
DTSTAMP:20260424T100859Z
URL:https://business.lflbchamber.com/events/details/women-of-world-war-ii-on-the-front-lines-the-home-front-17620
END:VEVENT

END:VCALENDAR
