BEGIN:VCALENDAR
VERSION:2.0
PRODID:-//ChamberMaster//Event Calendar 2.0//EN
METHOD:PUBLISH
X-PUBLISHED-TTL:P3D
REFRESH-INTERVAL:P3D
CALSCALE:GREGORIAN
BEGIN:VEVENT
DTSTART:20231216T190000Z
DTEND:20231216T220000Z
X-MICROSOFT-CDO-ALLDAYEVENT:FALSE
SUMMARY:Wonka at Wayfarer Theaters
DESCRIPTION:Wonka Event 12/16/23 from 1-4pm Wonka will be in the lobby. You've got a golden ticket to Wayfarer Theater's Chocolate Factory. In celebration of The New film "Wonka" we are turning our lobby into a chocolate factory between the hours of 1pm-4pm Saturday December 16th. Join us for Free hot cocoa and a chocolate fountain experience. We will be featuring delicious delicacies from Long Grove Confectionery Co. And Willy Wonka himself will be in attendance. This party is not to be missed.
X-ALT-DESC;FMTTYPE=text/html:Wonka Event 12/16/23 from 1-4pm Wonka&nbsp\;will be in the lobby. You&rsquo\;ve got a golden ticket to Wayfarer Theater&rsquo\;s Chocolate Factory. In celebration of The New film &ldquo\;Wonka&rdquo\;&nbsp\;we are turning our lobby into a chocolate factory between the hours of 1pm-4pm Saturday December 16th. Join us for Free hot cocoa and a chocolate fountain experience. We will be featuring delicious delicacies from Long Grove Confectionery Co. And Willy Wonka himself will be in attendance. This party is not to be missed.
LOCATION:Wayfarer Theater- 1850 2nd Street\, Highland Park\, IL 60035
UID:e.1126.26136
SEQUENCE:3
DTSTAMP:20260424T100542Z
URL:https://business.lflbchamber.com/events/details/wonka-at-wayfarer-theaters-26136
END:VEVENT

END:VCALENDAR
