BEGIN:VCALENDAR
VERSION:2.0
PRODID:-//ChamberMaster//Event Calendar 2.0//EN
METHOD:PUBLISH
X-PUBLISHED-TTL:P3D
REFRESH-INTERVAL:P3D
CALSCALE:GREGORIAN
BEGIN:VEVENT
DTSTART:20190416T230000Z
DTEND:20190417T003000Z
X-MICROSOFT-CDO-ALLDAYEVENT:FALSE
SUMMARY:Woodlands Academy Hosts Family Preview Night
DESCRIPTION:Learn about the transformative educational experience at Woodlands Academy of the Sacred Heart during Parent Preview Night Tuesday\, April 16\, from 6 to 7:30 p.m. You'll be able to hear from students first hand\, connect with teachers and administrators\, and learn about the many exciting clubs and activities offered. Woodlands Academy was named the 2019 #1 best all-girls high school and #3 best Catholic High School in Illinois by Niche\, an independent research company. The school promotes engaging academics\, artistic and athletic excellence\, strong faith\, and social responsibility. Located at 760 E. Westleigh Road in Lake Forest\, Woodlands Academy is an independent Catholic day-and-boarding\, college-preparatory school for young women of all faiths grades nine through 12. Woodlands Academy is part of a larger network of 24 schools in the U.S. and Canada and more than 125 schools in countries throughout the world. To register online for Family Preview Night\, visit woodlandsacademy.org/openhouse. More information is available on the website or by calling (847) 234-4300.
X-ALT-DESC;FMTTYPE=text/html:Learn about the transformative educational experience at Woodlands Academy of the Sacred Heart during Parent Preview Night Tuesday\, April 16\, from 6 to 7:30 p.m. You&rsquo\;ll be able to hear from students first hand\, connect with teachers and administrators\, and learn about the many exciting clubs and activities offered. Woodlands Academy was named the 2019 #1 best all-girls high school and #3 best Catholic High School in Illinois by Niche\, an independent research company. The school promotes engaging academics\, artistic and athletic excellence\, strong faith\, and social responsibility. Located at 760 E. Westleigh Road in Lake Forest\, Woodlands Academy is an independent Catholic day-and-boarding\, college-preparatory school for young women of all faiths grades nine through 12. Woodlands Academy is part of a larger network of 24 schools in the U.S. and Canada and more than 125 schools in countries throughout the world. To register online for Family Preview Night\, visit woodlandsacademy.org/openhouse. More information is available on the website or by calling (847) 234-4300.
LOCATION:Woodlands Academy of the Sacred Heart 760 E. Westleigh Road Lake Forest\, IL 60045
UID:e.1126.17700
SEQUENCE:3
DTSTAMP:20260424T100615Z
URL:https://business.lflbchamber.com/events/details/woodlands-academy-hosts-family-preview-night-17700
END:VEVENT

END:VCALENDAR
