BEGIN:VCALENDAR
VERSION:2.0
PRODID:-//ChamberMaster//Event Calendar 2.0//EN
METHOD:PUBLISH
X-PUBLISHED-TTL:P3D
REFRESH-INTERVAL:P3D
CALSCALE:GREGORIAN
BEGIN:VEVENT
DTSTART:20190517T230000Z
DTEND:20190518T013000Z
X-MICROSOFT-CDO-ALLDAYEVENT:FALSE
SUMMARY:Woodlands Academy Hosts Free Fine Arts Evening
DESCRIPTION:Enjoy an evening of student drawing\, painting\, ceramics and photography exhibits   along with performances by the school's choirs and orchestra   during Woodlands Academy of the Sacred Heart's annual Fine Arts Evening Friday\, May 17\, from 6 to 8:30 p.m. This celebration of the arts\, which is open to the public free of charge\, begins with a student art exhibition and reception at 6 p.m. followed by the Spring Concert at 7 p.m. Woodlands Academy is located at 760 E. Westleigh Road\, Lake Forest. For more information\, visit www.woodlandsacademy.org.
X-ALT-DESC;FMTTYPE=text/html:Enjoy an evening of student drawing\, painting\, ceramics and photography exhibits &ndash\; along with performances by the school&rsquo\;s choirs and orchestra &ndash\; during Woodlands Academy of the Sacred Heart&rsquo\;s annual Fine Arts Evening Friday\, May 17\, from 6 to 8:30 p.m. This celebration of the arts\, which is open to the public free of charge\, begins with a student art exhibition and reception at 6 p.m. followed by the Spring Concert at 7 p.m. Woodlands Academy is located at 760 E. Westleigh Road\, Lake Forest. For more information\, visit www.woodlandsacademy.org.
LOCATION:Woodlands Academy of the Sacred Heart 760 E. Westleigh Road Lake Forest\, IL 60045
UID:e.1126.17850
SEQUENCE:3
DTSTAMP:20260424T072706Z
URL:https://business.lflbchamber.com/events/details/woodlands-academy-hosts-free-fine-arts-evening-05-17-2019-17850
END:VEVENT

END:VCALENDAR
