BEGIN:VCALENDAR
VERSION:2.0
PRODID:-//ChamberMaster//Event Calendar 2.0//EN
METHOD:PUBLISH
X-PUBLISHED-TTL:P3D
REFRESH-INTERVAL:P3D
CALSCALE:GREGORIAN
BEGIN:VEVENT
DTSTART:20210313T003000Z
DTEND:20210313T013000Z
X-MICROSOFT-CDO-ALLDAYEVENT:FALSE
SUMMARY:Woodlands Academy’s virtual production brings ‘Addams Family’ to life
DESCRIPTION:"The Addams Family: School Edition" will be presented virtually two times by the Theatre Program at Woodlands Academy of the Sacred Heart in Lake Forest. Adapted from the original Off-Broadway musical (book by Marshall Brickman and Rick Elice\; music and lyrics by Andrew Lippa)\, this wonderfully macabre\, fun production will be streamed at 6:30 p.m. on Friday\, March 12\, and Saturday\, March 13. There is no charge\, but advance registration is required. You can order a free link to the stream at https://woodlands.booktix.com.
X-ALT-DESC;FMTTYPE=text/html:&ldquo\;The Addams Family: School Edition&rdquo\; will be presented virtually two times by the Theatre Program at Woodlands Academy of the Sacred Heart in Lake Forest. Adapted from the original Off-Broadway musical (book by Marshall Brickman and Rick Elice\; music and lyrics by Andrew Lippa)\, this wonderfully macabre\, fun production will be streamed at 6:30 p.m. on Friday\, March 12\, and Saturday\, March 13. There is no charge\, but advance registration is required. You can order a free link to the stream at https://woodlands.booktix.com.
LOCATION:Woodlands Academy of the Sacred Heart 760 E. Westleigh Road Lake Forest\, IL 60045
UID:e.1126.19970
SEQUENCE:3
DTSTAMP:20260425T214804Z
URL:https://business.lflbchamber.com/events/details/woodlands-academy-s-virtual-production-brings-addams-family-to-life-19970
END:VEVENT

END:VCALENDAR
