BEGIN:VCALENDAR
VERSION:2.0
PRODID:-//ChamberMaster//Event Calendar 2.0//EN
METHOD:PUBLISH
X-PUBLISHED-TTL:P3D
REFRESH-INTERVAL:P3D
CALSCALE:GREGORIAN
BEGIN:VEVENT
DTSTART:20190621T000000Z
DTEND:20190621T010000Z
X-MICROSOFT-CDO-ALLDAYEVENT:FALSE
SUMMARY:Wright Brothers\, Wrong Story
DESCRIPTION:Author William Hazelgrove believes it was Wilbur Wright who designed the first successful airplane\, not Orville. Orville only followed Wilbur's lead and assisted with the mechanical details. This new history of the Wright Brothers reveals the differences in the brothers' personalities and abilities and who wrote their original story.
X-ALT-DESC;FMTTYPE=text/html:<br />\nAuthor William Hazelgrove believes it was Wilbur Wright who designed the first successful airplane\, not Orville. Orville only followed Wilbur&rsquo\;s lead and assisted with the mechanical details. This new history of the Wright Brothers reveals the differences in the brothers&rsquo\; personalities and abilities and who wrote their original story.
LOCATION:Lake Bluff Public Library 123 E. Scranton Ave.\, Lake Bluff\, IL 60044
UID:e.1126.17999
SEQUENCE:3
DTSTAMP:20260424T071250Z
URL:https://business.lflbchamber.com/events/details/wright-brothers-wrong-story-17999
END:VEVENT

END:VCALENDAR
