BEGIN:VCALENDAR
VERSION:2.0
PRODID:-//ChamberMaster//Event Calendar 2.0//EN
METHOD:PUBLISH
X-PUBLISHED-TTL:P3D
REFRESH-INTERVAL:P3D
CALSCALE:GREGORIAN
BEGIN:VEVENT
DTSTART:20190711T151500Z
DTEND:20190711T164500Z
X-MICROSOFT-CDO-ALLDAYEVENT:FALSE
SUMMARY:YES YOU CAN NEGOTIATE A JOB OFFER!
DESCRIPTION:Presented by: Howard Campbell\, CMF\, Campbell Career Coaching\n\n     Negotiating a job offer is rarely easy but knowing how to skillfully negotiate the terms and conditions of an offer is key to getting the job you want and deserve.  In this interactive session\, you will learn how to effectively negotiate a job offer while avoiding common pitfalls that often result in money left on the table.  In this session you will gain critical skills such as how to:\n\n	Prepare before you get an offer\;\n	Respond when an offer is made\;\n	Negotiate and close the deal.\n\nHoward Campbell is Principal of Campbell Career Coaching where he works with individuals and groups to develop excellence in career performance and fulfillment.  Howard managed the HR activities for divisions of Fortune 500 companies and held the position of Vice President\, Career Management Consultant in the Chicago office of Right Management Consultants prior to starting his own practice.
X-ALT-DESC;FMTTYPE=text/html:Presented by:&nbsp\;<span style="font-family:tahoma\,sans-serif"><span style="font-size:12.0pt">Howard Campbell\, CMF\, Campbell Career Coaching</span></span><br />\n&nbsp\;&nbsp\;&nbsp\;&nbsp\; Negotiating a job offer is rarely easy but knowing how to skillfully negotiate the terms and conditions of an offer is key to getting the job you want and deserve.&nbsp\; In this interactive session\, you will learn how to effectively negotiate a job offer while avoiding common pitfalls that often result in money left on the table.&nbsp\; In this session you will gain critical skills such as how to:\n<ul>\n	<li>Prepare before you get an offer\;</li>\n	<li>Respond when an offer is made\;</li>\n	<li>Negotiate and close the deal.</li>\n</ul>\n<span style="font-family:tahoma\,sans-serif">Howard Campbell is Principal of Campbell Career Coaching where he works with individuals and groups to develop excellence in career performance and fulfillment.&nbsp\; Howard managed the HR activities for divisions of Fortune 500 companies and held the position of Vice President\, Career Management Consultant in the Chicago office of Right Management Consultants prior to starting his own practice.</span><br />\n&nbsp\;
LOCATION:Career Resource Center Grove Cultural Campus 40 E. Old Mill Road Lake Forest\, IL 60045
UID:e.1126.18010
SEQUENCE:3
DTSTAMP:20260424T044206Z
URL:https://business.lflbchamber.com/events/details/yes-you-can-negotiate-a-job-offer-07-11-2019-18010
END:VEVENT

END:VCALENDAR
